BEGIN:VCALENDAR
VERSION:2.0
PRODID:-//Mindset Solutions - ECPv6.5.1.3//NONSGML v1.0//EN
CALSCALE:GREGORIAN
METHOD:PUBLISH
X-ORIGINAL-URL:https://mindset.et
X-WR-CALDESC:Events for Mindset Solutions
REFRESH-INTERVAL;VALUE=DURATION:PT1H
X-Robots-Tag:noindex
X-PUBLISHED-TTL:PT1H
BEGIN:VTIMEZONE
TZID:UTC
BEGIN:STANDARD
TZOFFSETFROM:+0000
TZOFFSETTO:+0000
TZNAME:UTC
DTSTART:20240101T000000
END:STANDARD
END:VTIMEZONE
BEGIN:VEVENT
DTSTART;TZID=UTC:20240208T080000
DTEND;TZID=UTC:20240208T170000
DTSTAMP:20260423T014953
CREATED:20240826T202021Z
LAST-MODIFIED:20240919T074428Z
UID:282-1707379200-1707411600@mindset.et
SUMMARY:Environmental Protection authority
DESCRIPTION:Mindet\, in collaboration with the Environmental Protection Authority\, organized a comprehensive workshop at the scenic Haile Hotels and Resorts. The event brought together industry leaders\, environmental experts\, and government representatives to discuss innovative approaches to sustainability and environmental protection in Ethiopia.
URL:https://mindset.et/event/environmental-protection-authority/
ATTACH;FMTTYPE=image/webp:https://mindset.et/wp-content/uploads/2024/08/DSC9962-copy-scaled.webp
END:VEVENT
END:VCALENDAR