BEGIN:VCALENDAR
VERSION:2.0
PRODID:-//Mindset Solutions - ECPv6.5.1.3//NONSGML v1.0//EN
CALSCALE:GREGORIAN
METHOD:PUBLISH
X-WR-CALNAME:Mindset Solutions
X-ORIGINAL-URL:https://mindset.et
X-WR-CALDESC:Events for Mindset Solutions
REFRESH-INTERVAL;VALUE=DURATION:PT1H
X-Robots-Tag:noindex
X-PUBLISHED-TTL:PT1H
BEGIN:VTIMEZONE
TZID:UTC
BEGIN:STANDARD
TZOFFSETFROM:+0000
TZOFFSETTO:+0000
TZNAME:UTC
DTSTART:20240101T000000
END:STANDARD
END:VTIMEZONE
BEGIN:VEVENT
DTSTART;VALUE=DATE:20250516
DTEND;VALUE=DATE:20250518
DTSTAMP:20260422T225635
CREATED:20250630T140527Z
LAST-MODIFIED:20250701T044939Z
UID:591-1747353600-1747526399@mindset.et
SUMMARY:Two-day leadership training program for Mid-level Managers at Bunna Bank
DESCRIPTION:We’ve successfully wrapped up a two-day leadership training program for mid-level managers at Bunna Bank—focused on powerful themes such as The Power of Ideas and the Art of Thinking\, Strategic Thinking and Planning\, Strategic Thinking in Organizational Contexts\, and Mastering the Six Hats Critical Thinking Method. \nLed by our expert trainers\, the sessions were dynamic\, thought-provoking\, and designed to elevate participants’ strategic thinking\, decision-making\, and innovation capabilities. \nWe’re excited to continue this journey with upcoming executive-level training sessions to further strengthen leadership capacity at Bunna Bank.
URL:https://mindset.et/event/two-day-leadership-training-program-for-mid-level-managers-at-bunna-bank/
ATTACH;FMTTYPE=image/jpeg:https://mindset.et/wp-content/uploads/2025/06/499252633_711176234625388_2420776991610928283_n.jpg
END:VEVENT
BEGIN:VEVENT
DTSTART;VALUE=DATE:20250505
DTEND;VALUE=DATE:20250513
DTSTAMP:20260422T225635
CREATED:20250630T135648Z
LAST-MODIFIED:20250630T135743Z
UID:577-1746403200-1747094399@mindset.et
SUMMARY:Training of Trainer (TOT) MIDROC Investment Group
DESCRIPTION:We just wrapped up a dynamic 7-day TOT program with the dedicated team at MIDROC Investment Group\, marking the start of a long-term development cycle focused on practical application and continuous learning. \nFrom the very first climate-setting activity to morning sports\, energizers\, games\, and interactive in-session learnings\, every moment was intentionally designed for a holistic Training-Of-Trainers experience. This journey was about more than just knowledge; it was about creating an environment where every element brings about growth\, confidence\, and skills for the future. \nOur trainees immersed themselves in core themes including Human Capital Management\, Adult Learning & Training Methodologies\, Facilitation & Training Techniques\, Managing Training Programs\, and more. The discipline\, dedication\, and collaborative spirit the participants brought into the room each day were truly inspiring. Their experience and contributions enriched the learning process and set a strong foundation for what’s to come. \nWe’re looking forward to the upcoming phases of this journey\, where trainees will reconnect with us to share how they’re applying their learning in real-world settings\, cultivating a new wave of skilled trainers and professionals across various sectors and clusters within the MIDROC Investment Group.
URL:https://mindset.et/event/training-of-trainer-tot-midroc-investment-group/
CATEGORIES:Leadership Development
ATTACH;FMTTYPE=image/jpeg:https://mindset.et/wp-content/uploads/2025/06/496550460_706018571807821_5252853488601859284_n.jpg
END:VEVENT
BEGIN:VEVENT
DTSTART;VALUE=DATE:20250414
DTEND;VALUE=DATE:20250418
DTSTAMP:20260422T225635
CREATED:20250630T134042Z
LAST-MODIFIED:20250630T134241Z
UID:564-1744588800-1744934399@mindset.et
SUMMARY:Five Weeks. Five Cohorts. A Powerful Leadership Journey.
DESCRIPTION:We’ve just wrapped up an intensive five-week leadership development program with the inspiring women and mid-level leaders of the Cooperative Bank of Oromia through the Women’s Bootcamp and Bright Spot Leadership Training. \nOver the past three weeks\, our Bright Spot mid-level leaders engaged in high-impact sessions covering: \nCustomer-Centric & Performance-Driven Leadership \n Emotional Intelligence for Financial Executives \n Leading & Coaching High-Performance Teams \n Managing Organizational Culture & Change \nThe Bootcamp experience was grounded in an adult learning approach\, encouraging experience-sharing\, collaboration\, and real-time reflection. From energizing morning sports to dynamic training sessions\, each topic came to life through interactive group work\, practical exercises\, and purposeful engagement. \nWe’re confident that this journey will spark sharper communication\, stronger team dynamics\, and tangible leadership and mindset shifts in the workplace. The dedication and growth we witnessed were nothing short of inspiring\, and we can’t wait to see these leaders in action. \nLooking ahead\, Mindset Solutions remains committed to driving leadership excellence and continued partnership with the Cooperative Bank of Oromia. \n 
URL:https://mindset.et/event/five-weeks-five-cohorts-a-powerful-leadership-journey/
ATTACH;FMTTYPE=image/jpeg:https://mindset.et/wp-content/uploads/2025/06/491936630_691740689902276_7923800831830360661_n-1.jpg
END:VEVENT
BEGIN:VEVENT
DTSTART;VALUE=DATE:20250402
DTEND;VALUE=DATE:20250406
DTSTAMP:20260422T225635
CREATED:20250630T132649Z
LAST-MODIFIED:20250630T133705Z
UID:545-1743552000-1743897599@mindset.et
SUMMARY:Mid-level Bright Spot Leaders from the Cooperative Bank of Oromia (Round One)
DESCRIPTION:Mindset Solutions proudly wrapped up the first round of a high-energy\, high-impact boot camp with an incredible group of mid-level Bright Spot Leaders from the Cooperative Bank of Oromia (COOP). \nThe Bright Spot Leaders of COOP are a handpicked group of high-performing mid-level managers recognized for their exceptional character and results. Over four transformational days\, these leaders immersed themselves in bold\, forward-thinking leadership development with our expert trainers and facilitators. \nThe boot camp focused on deepening their leadership and professional capacity through topics such as: \n Customer-Centric & Performance-Driven Leadership \n Emotional Intelligence for Financial Executives \n Leading & Coaching High-Performance Teams \n Managing Organizational Culture & Change \nThe training incorporated our custom 6 AM sport sessions\, engaging facilitation\, and content-rich training\, fueled by the participants’ curiosity and energy\, making for an enriching experience. \n       
URL:https://mindset.et/event/545/
ATTACH;FMTTYPE=image/png:https://mindset.et/wp-content/uploads/2025/06/10-1.png
END:VEVENT
BEGIN:VEVENT
DTSTART;VALUE=DATE:20250329
DTEND;VALUE=DATE:20250401
DTSTAMP:20260422T225635
CREATED:20250630T131750Z
LAST-MODIFIED:20250630T131916Z
UID:534-1743206400-1743465599@mindset.et
SUMMARY:Three-day Women’s boot camp training for the Cooperative Bank of Oromia (Round Two)
DESCRIPTION:Another action-packed and exciting week at Mindset Solutions with the second round of the Three-Day Women’s Bootcamp Training at the Cooperative Bank of Oromia (COOP)! \n\nBuilding on the success of the first cohort\, this second round brought even more energy\, insight\, and growth: our powerhouse trainers—Dr. Mehret Debebe\, Dr. Hanna Yeshinegus\, Robel Debebe\, and Hiwot Alemayehu returned with refreshed energy and passion to take participants through another transformative journey. \nOnce again\, Master Henok led the group each morning with a 6 AM sports session\, setting a vibrant tone for the day. In the sessions\, participants explored key themes such as Emotional Intelligence\, Customer-Centric Service\, Mentoring & Networking\, and Leading Change as Women through creative activities\, dynamic discussions\, and practical application. \nCongratulations to both rounds of trainees who completed the intensive boot camp and received their certificates from Mindset Solutions and the Cooperative Bank of Oromia. \n\nOur journey with COOP doesn’t end here. Stay tuned for more! \n    
URL:https://mindset.et/event/three-day-womens-boot-camp-training-for-the-cooperative-bank-of-oromia-round-two/
ATTACH;FMTTYPE=image/png:https://mindset.et/wp-content/uploads/2025/06/fir.png
END:VEVENT
BEGIN:VEVENT
DTSTART;VALUE=DATE:20250322
DTEND;VALUE=DATE:20250323
DTSTAMP:20260422T225635
CREATED:20250630T125157Z
LAST-MODIFIED:20250630T125424Z
UID:508-1742601600-1742687999@mindset.et
SUMMARY:Addis Ababa City Administration Training
DESCRIPTION:Mindset Solutions had the privilege of training 3\,500 government leaders from the Addis Ababa City Administration. This initiative marks a significant step towards transformational change\, highlighting the vital role of cultivating a leader’s mindset in pursuing the city’s progress. Under the guidance of our esteemed trainer\, Dr. Mehret Debebe\, the sessions were delivered with expertise and passion\, leaving a lasting impact on all participants.\n\n\n\n\nAs we look to the future\, we remain dedicated to collaborating with the Mayor’s Office\, aiming to provide further training focused on personal development\, professional growth\, and leadership skills for the city’s leaders\, forging a brighter future for Addis Ababa!\n\n\n\n  
URL:https://mindset.et/event/addis-ababa-city-administration-training/
CATEGORIES:Leadership Development
ATTACH;FMTTYPE=image/png:https://mindset.et/wp-content/uploads/2025/06/Midroc-C-level-5.png
END:VEVENT
BEGIN:VEVENT
DTSTART;VALUE=DATE:20250323
DTEND;VALUE=DATE:20250326
DTSTAMP:20260422T225635
CREATED:20250630T130943Z
LAST-MODIFIED:20250630T131340Z
UID:520-1742688000-1742947199@mindset.et
SUMMARY:Three-day Women’s boot camp training for the Cooperative Bank of Oromia (Round One)
DESCRIPTION:Such an energizing week at Mindset Solutions delivering The Three-day Women’s boot camp training for the Cooperative Bank of Oromia! \nOur tailored boot camp program was expertly delivered by four powerhouse trainers—Dr. Mehret Debebe\, Dr. Hanna Yeshinegus\, Robel Debebe\, and Hiwot Alemayehu—creating a transformative experience filled with dynamic activities\, games\, and real-world applications. \nEach day began with an energetic 6 AM sports session led by MasterHenok\, setting the tone for high-performance learning. The following sessions took a deep dive into Emotional Intelligence\, Customer-Centric Service\, Mentoring & Networking\, and Leading Change as Women\, brought to life through interactive activities\, games\, and real-world applications. \nThe young participants of COOP also had the incredible opportunity to network with prominent and influential women in the banking sector\, developing valuable connections and insights. \nThe energy and enthusiasm of the group was truly incredible! We wrapped up this first cohort with high hopes and excitement for the next group\, which starts in just a few days. \n\n\n\n                  
URL:https://mindset.et/event/three-day-womens-boot-camp-training-for-the-cooperative-bank-of-oromia-round-one/
CATEGORIES:Personal Development,Professional Development
ATTACH;FMTTYPE=image/png:https://mindset.et/wp-content/uploads/2025/06/Sport-1.png
END:VEVENT
BEGIN:VEVENT
DTSTART;VALUE=DATE:20250305
DTEND;VALUE=DATE:20250308
DTSTAMP:20260422T225635
CREATED:20250528T073106Z
LAST-MODIFIED:20250630T140030Z
UID:446-1741132800-1741391999@mindset.et
SUMMARY:Executive and Leadership Development training for MIDROC Investment Group
DESCRIPTION:This week\, Mindset Solutions delivered a three-day C-level training for MIDROC Investment Group. As a leading provider of executive and leadership development\, we tailored our approach to help high-level leaders enhance their leadership capacities\, foster trust and collaboration\, inspire a legacy-driven mindset\, and drive positive change aligned with MIDROC Investment Group’s goals. \n\nA special thank you to our esteemed guest trainers\, Dr. Gashaw Haile and Hiwot Alemayehu\, for sharing their expertise and invaluable insights.\n\n\nAt Mindset Solutions\, we are dedicated to cultivating visionary leadership that drives growth and innovation. We look forward to continuing our support with upcoming trainings for mid-level leaders and Training of Trainers (TOT) professionals.
URL:https://mindset.et/event/executive-and-leadership-development-training-for-midroc-investment-group/
LOCATION:Noora Resort\, Bishoftu\, Ethiopia
CATEGORIES:Leadership Development
ATTACH;FMTTYPE=image/png:https://mindset.et/wp-content/uploads/2025/05/7.png
END:VEVENT
BEGIN:VEVENT
DTSTART;VALUE=DATE:20250220
DTEND;VALUE=DATE:20250221
DTSTAMP:20260422T225635
CREATED:20260414T055404Z
LAST-MODIFIED:20260414T055404Z
UID:877-1740009600-1740095999@mindset.et
SUMMARY:4-month systems strengthening collaboration with the Lenegewa Women’s Rehabilitation and Skill Development Center
DESCRIPTION:Excited to kick off a 4-month systems strengthening collaboration with the Lenegewa Women’s Rehabilitation and Skill Development Center\, undertaking a structured assessment and redesign of its rehabilitation system to improve services for vulnerable women and support sustainable reintegration. \nOver the coming months\, our team of skilled experts and specialists will be working with the center to design and strengthen the systems behind their rehabilitation program\, building the operational backbone that supports effective service delivery. \nFrom case management and safeguarding to reintegration pathways and training systems\, the focus is on creating sustainable structures that enable programs to operate consistently\, safely\, and at scale. \nGrateful to be part of this important and impactful work. \n  
URL:https://mindset.et/event/4-month-systems-strengthening-collaboration-with-the-lenegewa-womens-rehabilitation-and-skill-development-center/
ATTACH;FMTTYPE=image/png:https://mindset.et/wp-content/uploads/2026/04/8-3.png
END:VEVENT
BEGIN:VEVENT
DTSTART;TZID=UTC:20241115T080000
DTEND;TZID=UTC:20241115T170000
DTSTAMP:20260422T225635
CREATED:20241021T072358Z
LAST-MODIFIED:20241021T072358Z
UID:374-1731657600-1731690000@mindset.et
SUMMARY:International Livestock Research Institute
DESCRIPTION:
URL:https://mindset.et/event/international-livestock-research-institute/
END:VEVENT
BEGIN:VEVENT
DTSTART;TZID=UTC:20241105T080000
DTEND;TZID=UTC:20241107T170000
DTSTAMP:20260422T225635
CREATED:20241107T132210Z
LAST-MODIFIED:20241107T133211Z
UID:406-1730793600-1730998800@mindset.et
SUMMARY:ማይንድሴት ሶሉሽንስ ለሚድሮክ ኢንቨስትመንት ግሩፕ ኮርፖሬት ከፍተኛ አመራሮች ስልጠና ሰጥቷል
DESCRIPTION:ማይንድሴት ሶሉሽንስ ለ3 ቀን የቆየ በአመራርና ሰብዕና ልህቀት ዙሪያ ባተኮሩ ርዕሰ ጉዳዮች ላይ ለሁለተኛ ጊዜ ለሚድሮክ ኢንቨስትመንት ግሩፕ ኮርፖሬት ከፍተኛ አመራሮች ስልጠና ሰጥቷል። ስልጠናው በቢሾፍቱ ከተማ በሚገኘው በኖራ ሪዞርት እየተካሄደ ሲሆን ለአንድ አመት የሚቀጥል ነው። በስልጠናው ላይ ዶር ምህረትን ጨምሮ ከፍተኛ የአመራርና የኢንዱስትሪ መሪዎች አሰልጥነዋል።
URL:https://mindset.et/event/%e1%88%9b%e1%8b%ad%e1%8a%95%e1%8b%b5%e1%88%b4%e1%89%b5-%e1%88%b6%e1%88%89%e1%88%bd%e1%8a%95%e1%88%b5-%e1%88%88%e1%88%9a%e1%8b%b5%e1%88%ae%e1%8a%ad-%e1%8a%a2%e1%8a%95%e1%89%a8%e1%88%b5%e1%89%b5/
ATTACH;FMTTYPE=image/jpeg:https://mindset.et/wp-content/uploads/2024/11/photo_2024-11-07_16-20-32.jpg
END:VEVENT
BEGIN:VEVENT
DTSTART;TZID=UTC:20241101T080000
DTEND;TZID=UTC:20241101T170000
DTSTAMP:20260422T225635
CREATED:20241021T072434Z
LAST-MODIFIED:20241021T072434Z
UID:375-1730448000-1730480400@mindset.et
SUMMARY:2nd MIDROC management group training
DESCRIPTION:
URL:https://mindset.et/event/2nd-midroc-management-group-training/
END:VEVENT
BEGIN:VEVENT
DTSTART;TZID=UTC:20241031T080000
DTEND;TZID=UTC:20241102T170000
DTSTAMP:20260422T225635
CREATED:20241021T072318Z
LAST-MODIFIED:20241021T072409Z
UID:373-1730361600-1730566800@mindset.et
SUMMARY:Industrial Parks Development Corporation
DESCRIPTION:
URL:https://mindset.et/event/ipdc/
END:VEVENT
BEGIN:VEVENT
DTSTART;TZID=UTC:20241023T080000
DTEND;TZID=UTC:20241023T170000
DTSTAMP:20260422T225635
CREATED:20241024T085947Z
LAST-MODIFIED:20241024T085947Z
UID:392-1729670400-1729702800@mindset.et
SUMMARY:የአዲስ አበባ ከተማ አስተዳደር ገቢዎች ቢሮ ከማይንድ ሴትቲንግ ሶሊሽን
DESCRIPTION:የአዲስ አበባ ከተማ አስተዳደር ገቢዎች ቢሮ ከማይንድ ሴትቲንግ ሶሊሽን ጋር በመተባበር በአስተሳሰብና የስራ ባህል ለውጥ ለውጤታማ የገቢ አሰባሰብ በሚል ርዕስ ለአመራሮች ስልጠና ሲሰጥ አርፍዷል:: ጥቅምት 13 2017 \n           \n 
URL:https://mindset.et/event/%e1%8b%a8%e1%8a%a0%e1%8b%b2%e1%88%b5-%e1%8a%a0%e1%89%a0%e1%89%a3-%e1%8a%a8%e1%89%b0%e1%88%9b-%e1%8a%a0%e1%88%b5%e1%89%b0%e1%8b%b3%e1%8b%b0%e1%88%ad-%e1%8c%88%e1%89%a2%e1%8b%8e%e1%89%bd-%e1%89%a2/
END:VEVENT
BEGIN:VEVENT
DTSTART;TZID=UTC:20241013T080000
DTEND;TZID=UTC:20241013T170000
DTSTAMP:20260422T225635
CREATED:20241021T072726Z
LAST-MODIFIED:20241021T072726Z
UID:383-1728806400-1728838800@mindset.et
SUMMARY:National Election Board of Ethiopia
DESCRIPTION:National Election Board of Ethiopia on October 13\, 2024\, on the essential to cultivate Trustworthiness and foster a culture of Trust among National election Board of Ethiopia senior managements.
URL:https://mindset.et/event/national-election-board-of-ethiopia/
END:VEVENT
BEGIN:VEVENT
DTSTART;TZID=UTC:20241008T080000
DTEND;TZID=UTC:20241010T170000
DTSTAMP:20260422T225635
CREATED:20241014T112240Z
LAST-MODIFIED:20241014T112240Z
UID:317-1728374400-1728579600@mindset.et
SUMMARY:ማይንድሴት ሶሉሽንስ ለ3 ቀን የቆየ ለሚድሮክ ኢንቨስትመንት ግሩፕ ኮርፖሬት ከፍተኛ አመራሮች ስልጠና ሰጠ
DESCRIPTION:ማይንድሴት ሶሉሽንስ ለ3 ቀን የቆየ በአመራርና ሰብዕና ልህቀት ዙሪያ ባተኮሩ ርዕሰ ጉዳዮች ላይ ለሚድሮክ ኢንቨስትመንት ግሩፕ ኮርፖሬት ከፍተኛ አመራሮች ስልጠና ሰጥቷል። ስልጠናው በቢሾፍቱ ከተማ በሚገኘው በኖራ ሪዞር የተካሄደ ሲሆን ለአንድ አመት የሚቀጥል ነው። በስልጠናው ላይ ዶር ምህረትን ጨምሮ ከፍተኛ የአመራርና የኢንዱስትሪ መሪዎች አሰልጥነዋል። \n 
URL:https://mindset.et/event/%e1%88%9b%e1%8b%ad%e1%8a%95%e1%8b%b5%e1%88%b4%e1%89%b5-%e1%88%b6%e1%88%89%e1%88%bd%e1%8a%95%e1%88%b5-%e1%88%883-%e1%89%80%e1%8a%95-%e1%8b%a8%e1%89%86%e1%8b%a8-%e1%88%88%e1%88%9a%e1%8b%b5%e1%88%ae/
ATTACH;FMTTYPE=image/jpeg:https://mindset.et/wp-content/uploads/2024/10/photo_2024-10-14_14-17-45.jpg
END:VEVENT
BEGIN:VEVENT
DTSTART;TZID=UTC:20241003T080000
DTEND;TZID=UTC:20241003T170000
DTSTAMP:20260422T225635
CREATED:20241021T072659Z
LAST-MODIFIED:20241021T072659Z
UID:382-1727942400-1727974800@mindset.et
SUMMARY:Ethiopia- Djibouti railway Senior Management Team training
DESCRIPTION:Ethiopia- Djibouti railway Senior Management Team training on October 03\, 2024\, aimed at inspiring Ethio-Djibouti Railway /EDR senior management to embrace\, lead\, manage and communicate change effectively\, thereby enhancing organizational resilience and adaptability.
URL:https://mindset.et/event/ethiopia-djibouti-railway-senior-management-team-training/
END:VEVENT
BEGIN:VEVENT
DTSTART;TZID=UTC:20240814T080000
DTEND;TZID=UTC:20240814T170000
DTSTAMP:20260422T225635
CREATED:20241021T072538Z
LAST-MODIFIED:20241021T072538Z
UID:380-1723622400-1723654800@mindset.et
SUMMARY:COOPbank branch managers training workshop
DESCRIPTION:
URL:https://mindset.et/event/coopbank-branch-managers-training-workshop/
END:VEVENT
BEGIN:VEVENT
DTSTART;TZID=UTC:20240726T080000
DTEND;TZID=UTC:20240727T170000
DTSTAMP:20260422T225635
CREATED:20241021T072624Z
LAST-MODIFIED:20241021T072624Z
UID:381-1721980800-1722099600@mindset.et
SUMMARY:Zemen Bank motivational training session
DESCRIPTION:Zemen Bank motivational training session on July-26/27\, 2024 During the Banks annual management meeting at Haile grand hotel Addis Ababa.
URL:https://mindset.et/event/zemen-bank-motivational-training-session/
END:VEVENT
BEGIN:VEVENT
DTSTART;TZID=UTC:20240603T080000
DTEND;TZID=UTC:20240603T170000
DTSTAMP:20260422T225635
CREATED:20240903T202759Z
LAST-MODIFIED:20241017T200318Z
UID:295-1717401600-1717434000@mindset.et
SUMMARY:Leadership Development Training with Buna Bank
DESCRIPTION:ከቡና ባንክ ከፍተኛ የማኔጅመንት ክፍል ጋር የጀምርነው የአንድ አመት ፕሮግራም ስልጠና አካል የሆነው ‘ስሜትን መረዳትና መምራት’ (THE MYSTERY AND MASTERY OF EMOTIONS) በሚል የተሰጠው ስልጠና :: \n \n  \n 
URL:https://mindset.et/event/leadership-development-buna-bank/
CATEGORIES:Leadership Development
ATTACH;FMTTYPE=image/jpeg:https://mindset.et/wp-content/uploads/2024/09/photo_2024-09-03_23-25-32.jpg
END:VEVENT
BEGIN:VEVENT
DTSTART;TZID=UTC:20240208T080000
DTEND;TZID=UTC:20240208T170000
DTSTAMP:20260422T225635
CREATED:20240826T202021Z
LAST-MODIFIED:20240919T074428Z
UID:282-1707379200-1707411600@mindset.et
SUMMARY:Environmental Protection authority
DESCRIPTION:Mindet\, in collaboration with the Environmental Protection Authority\, organized a comprehensive workshop at the scenic Haile Hotels and Resorts. The event brought together industry leaders\, environmental experts\, and government representatives to discuss innovative approaches to sustainability and environmental protection in Ethiopia.
URL:https://mindset.et/event/environmental-protection-authority/
ATTACH;FMTTYPE=image/webp:https://mindset.et/wp-content/uploads/2024/08/DSC9962-copy-scaled.webp
END:VEVENT
END:VCALENDAR